BEGIN:VCALENDAR
VERSION:2.0
PRODID:-//HTL Trieben - ECPv6.4.0.1//NONSGML v1.0//EN
CALSCALE:GREGORIAN
METHOD:PUBLISH
X-ORIGINAL-URL:https://www.htl-trieben.at
X-WR-CALDESC:Veranstaltungen für HTL Trieben
REFRESH-INTERVAL;VALUE=DURATION:PT1H
X-Robots-Tag:noindex
X-PUBLISHED-TTL:PT1H
BEGIN:VTIMEZONE
TZID:Europe/Vienna
BEGIN:DAYLIGHT
TZOFFSETFROM:+0100
TZOFFSETTO:+0200
TZNAME:CEST
DTSTART:20220327T010000
END:DAYLIGHT
BEGIN:STANDARD
TZOFFSETFROM:+0200
TZOFFSETTO:+0100
TZNAME:CET
DTSTART:20221030T010000
END:STANDARD
END:VTIMEZONE
BEGIN:VEVENT
DTSTART;VALUE=DATE:20220706
DTEND;VALUE=DATE:20220707
DTSTAMP:20260424T105533
CREATED:20220114T081742Z
LAST-MODIFIED:20220114T081743Z
UID:5191-1657065600-1657151999@www.htl-trieben.at
SUMMARY:Welcome Day für alle NeuanfängerInnen\, 17 Uhr
DESCRIPTION:
URL:https://www.htl-trieben.at/termine/welcome-day-fuer-alle-neuanfaengerinnen-17-uhr/
END:VEVENT
BEGIN:VEVENT
DTSTART;TZID=Europe/Vienna:20220706T073000
DTEND;TZID=Europe/Vienna:20220706T120000
DTSTAMP:20260424T105533
CREATED:20220114T081837Z
LAST-MODIFIED:20220114T081837Z
UID:5192-1657092600-1657108800@www.htl-trieben.at
SUMMARY:Aufnahmeprüfungen in der HTL Zeltweg
DESCRIPTION:
URL:https://www.htl-trieben.at/termine/aufnahmepruefungen-in-der-htl-zeltweg/
END:VEVENT
END:VCALENDAR