BEGIN:VCALENDAR
VERSION:2.0
PRODID:-//HTL Trieben - ECPv6.4.0.1//NONSGML v1.0//EN
CALSCALE:GREGORIAN
METHOD:PUBLISH
X-WR-CALNAME:HTL Trieben
X-ORIGINAL-URL:https://www.htl-trieben.at
X-WR-CALDESC:Veranstaltungen für HTL Trieben
REFRESH-INTERVAL;VALUE=DURATION:PT1H
X-Robots-Tag:noindex
X-PUBLISHED-TTL:PT1H
BEGIN:VTIMEZONE
TZID:Europe/Vienna
BEGIN:DAYLIGHT
TZOFFSETFROM:+0100
TZOFFSETTO:+0200
TZNAME:CEST
DTSTART:20250330T010000
END:DAYLIGHT
BEGIN:STANDARD
TZOFFSETFROM:+0200
TZOFFSETTO:+0100
TZNAME:CET
DTSTART:20251026T010000
END:STANDARD
END:VTIMEZONE
BEGIN:VEVENT
DTSTART;VALUE=DATE:20250502
DTEND;VALUE=DATE:20250503
DTSTAMP:20260425T054622
CREATED:20240916T085757Z
LAST-MODIFIED:20240916T085757Z
UID:11674-1746144000-1746230399@www.htl-trieben.at
SUMMARY:schulautonom frei
DESCRIPTION:
URL:https://www.htl-trieben.at/termine/schulautonom-frei-9/
END:VEVENT
BEGIN:VEVENT
DTSTART;VALUE=DATE:20250430
DTEND;VALUE=DATE:20250501
DTSTAMP:20260425T054622
CREATED:20241007T102608Z
LAST-MODIFIED:20241206T093654Z
UID:11814-1745971200-1746057599@www.htl-trieben.at
SUMMARY:Verteilung Semesterzeugnisse 5. Jahrgänge Sommersemester
DESCRIPTION:
URL:https://www.htl-trieben.at/termine/verteilung-semesterzeugnisse-5-jahrgaenge-sommersemester/
END:VEVENT
END:VCALENDAR