BEGIN:VCALENDAR
VERSION:2.0
PRODID:-//HTL Trieben - ECPv6.4.0.1//NONSGML v1.0//EN
CALSCALE:GREGORIAN
METHOD:PUBLISH
X-ORIGINAL-URL:https://www.htl-trieben.at
X-WR-CALDESC:Veranstaltungen für HTL Trieben
REFRESH-INTERVAL;VALUE=DURATION:PT1H
X-Robots-Tag:noindex
X-PUBLISHED-TTL:PT1H
BEGIN:VTIMEZONE
TZID:Europe/Vienna
BEGIN:DAYLIGHT
TZOFFSETFROM:+0100
TZOFFSETTO:+0200
TZNAME:CEST
DTSTART:20250330T010000
END:DAYLIGHT
BEGIN:STANDARD
TZOFFSETFROM:+0200
TZOFFSETTO:+0100
TZNAME:CET
DTSTART:20251026T010000
END:STANDARD
END:VTIMEZONE
BEGIN:VEVENT
DTSTART;VALUE=DATE:20250508
DTEND;VALUE=DATE:20250509
DTSTAMP:20260424T191940
CREATED:20240916T080221Z
LAST-MODIFIED:20241028T081305Z
UID:11682-1746662400-1746748799@www.htl-trieben.at
SUMMARY:Reife- und Diplomprüfung\, Haupttermin der 5. Jahrgänge - Mathematik
DESCRIPTION:
URL:https://www.htl-trieben.at/termine/reife-und-diplompruefung-haupttermin-mathematik-ab-8-30-uhr/
END:VEVENT
BEGIN:VEVENT
DTSTART;TZID=Europe/Vienna:20250508T083000
DTEND;TZID=Europe/Vienna:20250508T113500
DTSTAMP:20260424T191940
CREATED:20250302T193033Z
LAST-MODIFIED:20250302T193034Z
UID:12268-1746693000-1746704100@www.htl-trieben.at
SUMMARY:Jugendcoaching
DESCRIPTION:
URL:https://www.htl-trieben.at/termine/jugendcoaching-3/
END:VEVENT
END:VCALENDAR