BEGIN:VCALENDAR
VERSION:2.0
PRODID:-//HTL Trieben - ECPv6.4.0.1//NONSGML v1.0//EN
CALSCALE:GREGORIAN
METHOD:PUBLISH
X-ORIGINAL-URL:https://www.htl-trieben.at
X-WR-CALDESC:Veranstaltungen für HTL Trieben
REFRESH-INTERVAL;VALUE=DURATION:PT1H
X-Robots-Tag:noindex
X-PUBLISHED-TTL:PT1H
BEGIN:VTIMEZONE
TZID:Europe/Vienna
BEGIN:DAYLIGHT
TZOFFSETFROM:+0100
TZOFFSETTO:+0200
TZNAME:CEST
DTSTART:20250330T010000
END:DAYLIGHT
BEGIN:STANDARD
TZOFFSETFROM:+0200
TZOFFSETTO:+0100
TZNAME:CET
DTSTART:20251026T010000
END:STANDARD
END:VTIMEZONE
BEGIN:VEVENT
DTSTART;VALUE=DATE:20250509
DTEND;VALUE=DATE:20250510
DTSTAMP:20260424T173814
CREATED:20240916T080314Z
LAST-MODIFIED:20241028T081352Z
UID:11684-1746748800-1746835199@www.htl-trieben.at
SUMMARY:Reife- und Diplomprüfung\, Haupttermin der 5. Jahrgänge - Englisch
DESCRIPTION:
URL:https://www.htl-trieben.at/termine/reife-und-diplompruefung-haupttermin-englisch-ab-8-30-uhr-3/
END:VEVENT
END:VCALENDAR