BEGIN:VCALENDAR
VERSION:2.0
PRODID:-//HTL Trieben - ECPv6.4.0.1//NONSGML v1.0//EN
CALSCALE:GREGORIAN
METHOD:PUBLISH
X-ORIGINAL-URL:https://www.htl-trieben.at
X-WR-CALDESC:Veranstaltungen für HTL Trieben
REFRESH-INTERVAL;VALUE=DURATION:PT1H
X-Robots-Tag:noindex
X-PUBLISHED-TTL:PT1H
BEGIN:VTIMEZONE
TZID:Europe/Vienna
BEGIN:DAYLIGHT
TZOFFSETFROM:+0100
TZOFFSETTO:+0200
TZNAME:CEST
DTSTART:20190331T010000
END:DAYLIGHT
BEGIN:STANDARD
TZOFFSETFROM:+0200
TZOFFSETTO:+0100
TZNAME:CET
DTSTART:20191027T010000
END:STANDARD
END:VTIMEZONE
BEGIN:VEVENT
DTSTART;TZID=Europe/Vienna:20190119T083000
DTEND;TZID=Europe/Vienna:20190119T130000
DTSTAMP:20260424T105754
CREATED:20180910T183010Z
LAST-MODIFIED:20181211T135724Z
UID:1015-1547886600-1547902800@www.htl-trieben.at
SUMMARY:Tag der offenen Tür
DESCRIPTION:Tag der offenen Tür
URL:https://www.htl-trieben.at/termine/tag-der-offenen-tuer/
END:VEVENT
BEGIN:VEVENT
DTSTART;TZID=Europe/Vienna:20190123T093000
DTEND;TZID=Europe/Vienna:20190123T093000
DTSTAMP:20260424T105754
CREATED:20180711T103124Z
LAST-MODIFIED:20180825T190925Z
UID:678-1548235800-1548235800@www.htl-trieben.at
SUMMARY:Beurteilungskonferenz zu den Klausuren
DESCRIPTION:
URL:https://www.htl-trieben.at/termine/beurteilungskonferenz-zu-den-klausuren/
END:VEVENT
BEGIN:VEVENT
DTSTART;TZID=Europe/Vienna:20190125T120000
DTEND;TZID=Europe/Vienna:20190125T120000
DTSTAMP:20260424T105754
CREATED:20180711T103124Z
LAST-MODIFIED:20180825T190848Z
UID:677-1548417600-1548417600@www.htl-trieben.at
SUMMARY:Anmeldung zur Kompensationsprüfung und Anforderung der Prüfungsbeispiele (BM)
DESCRIPTION:
URL:https://www.htl-trieben.at/termine/anmeldung-zur-kompensationspruefung-und-anforderung-der-pruefungsbeispiele-bm/
END:VEVENT
BEGIN:VEVENT
DTSTART;TZID=Europe/Vienna:20190130T080000
DTEND;TZID=Europe/Vienna:20190130T080000
DTSTAMP:20260424T105754
CREATED:20180711T103124Z
LAST-MODIFIED:20180825T190825Z
UID:676-1548835200-1548835200@www.htl-trieben.at
SUMMARY:Reife- und Diplomprüfung Wintertermin Kompensationsprüfung mündlich D\, E\, AM\, FT
DESCRIPTION:
URL:https://www.htl-trieben.at/termine/reife-und-diplompruefung-wintertermin-kompensationspruefung-muendlich-d-e-am-ft/
END:VEVENT
END:VCALENDAR