BEGIN:VCALENDAR
VERSION:2.0
PRODID:-//HTL Trieben - ECPv6.4.0.1//NONSGML v1.0//EN
CALSCALE:GREGORIAN
METHOD:PUBLISH
X-ORIGINAL-URL:https://www.htl-trieben.at
X-WR-CALDESC:Veranstaltungen für HTL Trieben
REFRESH-INTERVAL;VALUE=DURATION:PT1H
X-Robots-Tag:noindex
X-PUBLISHED-TTL:PT1H
BEGIN:VTIMEZONE
TZID:Europe/Vienna
BEGIN:DAYLIGHT
TZOFFSETFROM:+0100
TZOFFSETTO:+0200
TZNAME:CEST
DTSTART:20190331T010000
END:DAYLIGHT
BEGIN:STANDARD
TZOFFSETFROM:+0200
TZOFFSETTO:+0100
TZNAME:CET
DTSTART:20191027T010000
END:STANDARD
END:VTIMEZONE
BEGIN:VEVENT
DTSTART;TZID=Europe/Vienna:20190207T080000
DTEND;TZID=Europe/Vienna:20190207T080000
DTSTAMP:20260424T144122
CREATED:20180711T103124Z
LAST-MODIFIED:20180825T190755Z
UID:675-1549526400-1549526400@www.htl-trieben.at
SUMMARY:RDP mündlich und Präsentation der Diplomarbeiten Wintertermin
DESCRIPTION:
URL:https://www.htl-trieben.at/termine/rdp-muendlich-und-praesentation-der-diplomarbeiten-wintertermin/
END:VEVENT
BEGIN:VEVENT
DTSTART;TZID=Europe/Vienna:20190208T140000
DTEND;TZID=Europe/Vienna:20190208T140000
DTSTAMP:20260424T144122
CREATED:20181010T171234Z
LAST-MODIFIED:20190116T072045Z
UID:1337-1549634400-1549634400@www.htl-trieben.at
SUMMARY:Semesterkonferenz
DESCRIPTION:
URL:https://www.htl-trieben.at/termine/semesterkonferenz/
END:VEVENT
BEGIN:VEVENT
DTSTART;TZID=Europe/Vienna:20190209T190000
DTEND;TZID=Europe/Vienna:20190209T190000
DTSTAMP:20260424T144122
CREATED:20180910T182731Z
LAST-MODIFIED:20180910T182812Z
UID:1013-1549738800-1549738800@www.htl-trieben.at
SUMMARY:Maturaball der 9CHMBF
DESCRIPTION:
URL:https://www.htl-trieben.at/termine/maturaball-der-9chmbf/
END:VEVENT
BEGIN:VEVENT
DTSTART;VALUE=DATE:20190212
DTEND;VALUE=DATE:20190213
DTSTAMP:20260424T144122
CREATED:20181014T184756Z
LAST-MODIFIED:20190116T083105Z
UID:1336-1549929600-1550015999@www.htl-trieben.at
SUMMARY:Schulschitag am Lachtal für die  1AHMBT\, 1BHMBT\, 1AHBTH\, 1YHBTH\, 1CHMBF
DESCRIPTION:
URL:https://www.htl-trieben.at/termine/schulschitag-am-lachtal-fuer-die-1-jahrgaenge-1ahmbt-1bhmbt-1chmbf-1ahbth-1yhbth/
END:VEVENT
BEGIN:VEVENT
DTSTART;VALUE=DATE:20190215
DTEND;VALUE=DATE:20190216
DTSTAMP:20260424T144122
CREATED:20180711T103125Z
LAST-MODIFIED:20180825T190731Z
UID:674-1550188800-1550275199@www.htl-trieben.at
SUMMARY:Verteilung Schulnachrichten bzw. Semesterzeugnisse
DESCRIPTION:
URL:https://www.htl-trieben.at/termine/verteilung-schulnachrichten-bzw-semesterzeugnisse/
END:VEVENT
BEGIN:VEVENT
DTSTART;VALUE=DATE:20190216
DTEND;VALUE=DATE:20190225
DTSTAMP:20260424T144122
CREATED:20180711T103125Z
LAST-MODIFIED:20180711T104714Z
UID:92-1550275200-1551052799@www.htl-trieben.at
SUMMARY:Semesterferien
DESCRIPTION:
URL:https://www.htl-trieben.at/termine/semesterferien/
END:VEVENT
BEGIN:VEVENT
DTSTART;TZID=Europe/Vienna:20190225T120000
DTEND;TZID=Europe/Vienna:20190225T120000
DTSTAMP:20260424T144122
CREATED:20180711T103125Z
LAST-MODIFIED:20180821T172541Z
UID:425-1551096000-1551096000@www.htl-trieben.at
SUMMARY:Aufgabenstellungen zur Klausur Fachtheorie inkl. Kompensationsprüfungen (AV)
DESCRIPTION:
URL:https://www.htl-trieben.at/termine/aufgabenstellungen-zur-klausur-fachtheorie-inkl-kompensationspruefungen-av/
END:VEVENT
BEGIN:VEVENT
DTSTART;TZID=Europe/Vienna:20190228T090000
DTEND;TZID=Europe/Vienna:20190228T120000
DTSTAMP:20260424T144122
CREATED:20190129T063606Z
LAST-MODIFIED:20190129T063606Z
UID:1502-1551344400-1551355200@www.htl-trieben.at
SUMMARY:Fototermin für die 2. bis 5. Jahrgänge in Trieben
DESCRIPTION:
URL:https://www.htl-trieben.at/termine/fototermin-fuer-die-2-bis-5-jahrgaenge-in-trieben/
END:VEVENT
END:VCALENDAR